BEGIN:VCALENDAR
VERSION:2.0
PRODID:-//Unkonventionell Event Calendar//NONSGML v1.0//EN
CALSCALE:GREGORIAN
METHOD:PUBLISH
BEGIN:VTIMEZONE
TZID:Europe/Vienna
BEGIN:STANDARD
DTSTART:20071028T030000
RRULE:FREQ=YEARLY;BYMONTH=10;BYDAY=-1SU
TZNAME:CET
TZOFFSETFROM:+0200
TZOFFSETTO:+0100
END:STANDARD
BEGIN:DAYLIGHT
DTSTART:20070325T020000
RRULE:FREQ=YEARLY;BYMONTH=3;BYDAY=-1SU
TZNAME:CEST
TZOFFSETFROM:+0100
TZOFFSETTO:+0200
END:DAYLIGHT
END:VTIMEZONE
BEGIN:VEVENT
UID:cd03f16d00b0917d5555a0c52e9fa952@wirtschaftsagentur-burgenland.at
DTSTAMP:20260421T182308Z
DTSTART;TZID=Europe/Vienna:20260518T180000
DTEND;TZID=Europe/Vienna:20260518T180000
SUMMARY:Anmeldung zu den regionalen Wirtschaftsstammtischen - 18.05.2026
DESCRIPTION:Nutzen Sie die Gelegenheit zum Netzwerken in entspannter Atmosphäre. Gewi
 nnen Sie Einblicke in aktuelle Entwicklungen sowie Fördermöglichkeiten 
 – insbesondere in den Bereichen Künstliche Intelligenz und erneuerbare
  Energien.\n
LOCATION:Gasthaus Reichl\, Kräftenweg 2\, 7022 Schattendorf
URL:https://wirtschaftsagentur-burgenland.at/event/wirtschaftsstammtisch/
STATUS:CONFIRMED
SEQUENCE:0
BEGIN:VALARM
TRIGGER:-P1D
ACTION:DISPLAY
DESCRIPTION:Erinnerung: Anmeldung zu den regionalen Wirtschaftsstammtischen - 18.05.2026 morgen um 18:00 Uhr
END:VALARM
END:VEVENT
END:VCALENDAR
